BEGIN:VCALENDAR
VERSION:2.0
PRODID:-//Tukios.com/
BEGIN:VEVENT
UID:ba5d8548-1f2d-49df-b3a4-7f0c47915eff@www.agentfuneralhome.com
DTSTAMP:20260420T213732Z
DTSTART:20260423T190000Z
DTEND:20260423T200000Z
SUMMARY:Funeral Service
DESCRIPTION:
URL:https://www.agentfuneralhome.com/obituaries/william-armer
LOCATION: 98706 State Hwy 82  Vian OK 74962
GEO:35.5847466;-94.9777909
END:VEVENT
END:VCALENDAR