BEGIN:VCALENDAR
VERSION:2.0
PRODID:-//Tukios.com/
BEGIN:VEVENT
UID:29329427-53f8-483e-aab7-5dee977475c5@www.agentfuneralhome.com
DTSTAMP:20260420T213523Z
DTSTART:20260422T150000Z
DTEND:20260423T010000Z
SUMMARY:Viewing
DESCRIPTION:
URL:https://www.agentfuneralhome.com/obituaries/william-armer
LOCATION: 123 S Wheeler Ave  Sallisaw OK 74955
GEO:35.4584198;-94.7878701
END:VEVENT
END:VCALENDAR