BEGIN:VCALENDAR
VERSION:2.0
PRODID:-//Tukios.com/
BEGIN:VEVENT
UID:b3297d2a-0319-479d-94b5-1b0501202ee8@www.agentfuneralhome.com
DTSTAMP:20260421T195719Z
DTSTART:20260423T150000Z
DTEND:20260423T160000Z
SUMMARY:Memorial Service
DESCRIPTION:
URL:https://www.agentfuneralhome.com/obituaries/sandy-street
LOCATION:First Assembly of God Church 203 West Sequoyah St  Muldrow OK 
	74948
GEO:35.4061537;-94.6013308
END:VEVENT
END:VCALENDAR