BEGIN:VCALENDAR
VERSION:2.0
PRODID:-//Tukios.com/
BEGIN:VEVENT
UID:9ad51c06-5ad2-4f64-9bdc-d07952c47d7e@www.agentfuneralhome.com
DTSTAMP:20260420T193308Z
DTSTART:20260422T150000Z
DTEND:20260422T160000Z
SUMMARY:Funeral Service
DESCRIPTION:
URL:https://www.agentfuneralhome.com/obituaries/martha-keck
LOCATION: 123 S Wheeler Ave  Sallisaw OK 74955
GEO:35.4579834;-94.7875666
END:VEVENT
END:VCALENDAR