BEGIN:VCALENDAR
VERSION:2.0
PRODID:-//Tukios.com/
BEGIN:VEVENT
UID:66ad43e0-af4a-4dab-87cc-d941e968d68f@www.agentfuneralhome.com
DTSTAMP:20260420T193431Z
DTSTART:20260421T180000Z
DTEND:20260422T010000Z
SUMMARY:Viewing
DESCRIPTION:
URL:https://www.agentfuneralhome.com/obituaries/martha-keck
LOCATION: 123 S Wheeler Ave  Sallisaw OK 74955
GEO:35.4584198;-94.7878701
END:VEVENT
END:VCALENDAR