BEGIN:VCALENDAR
VERSION:2.0
PRODID:-//Tukios.com/
BEGIN:VEVENT
UID:275788da-e835-464b-bb68-0771f2291cc4@www.agentfuneralhome.com
DTSTAMP:20260420T174520Z
DTSTART:20260423T230000Z
DTEND:20260424T010000Z
SUMMARY:Visitation
DESCRIPTION:
URL:https://www.agentfuneralhome.com/obituaries/lisa-brooks
LOCATION: 100 North Highway 10  Gore OK 74435
GEO:35.5366037;-95.11766
END:VEVENT
END:VCALENDAR