BEGIN:VCALENDAR
VERSION:2.0
PRODID:-//Tukios.com/
BEGIN:VEVENT
UID:35a86e98-8ccd-4ea7-b3e5-e34793a50c5c@www.agentfuneralhome.com
DTSTAMP:20260420T174901Z
DTSTART:20260423T170000Z
DTEND:20260424T010000Z
SUMMARY:Viewing
DESCRIPTION:
URL:https://www.agentfuneralhome.com/obituaries/lisa-brooks
LOCATION: 100 North Highway 10  Gore OK 74435
GEO:35.5366037;-95.11766
END:VEVENT
END:VCALENDAR