BEGIN:VCALENDAR
VERSION:2.0
PRODID:-//Tukios.com/
BEGIN:VEVENT
UID:ffa976b4-d291-4381-a5ea-8d99082f73a5@www.agentfuneralhome.com
DTSTAMP:20260420T175033Z
DTSTART:20260424T190000Z
DTEND:20260424T200000Z
SUMMARY:Funeral Service
DESCRIPTION:
URL:https://www.agentfuneralhome.com/obituaries/lisa-brooks
LOCATION: 106 E 5th St  Gore OK 74435
GEO:35.5292565;-95.1162141
END:VEVENT
END:VCALENDAR