BEGIN:VCALENDAR
VERSION:2.0
PRODID:-//Tukios.com/
BEGIN:VEVENT
UID:924f09b7-1c26-47d0-a022-28b33ce850b5@www.agentfuneralhome.com
DTSTAMP:20260421T083024Z
DTSTART:20260415
SUMMARY:Burial
DESCRIPTION:
URL:https://www.agentfuneralhome.com/obituaries/diane-robertson
LOCATION: 794 E Houser Ave  Sallisaw OK 74955
GEO:35.446884;-94.79943
END:VEVENT
END:VCALENDAR