BEGIN:VCALENDAR
VERSION:2.0
PRODID:-//Tukios.com/
BEGIN:VEVENT
UID:349b0213-2c9a-4a22-b1ed-099ef0c50989@www.agentfuneralhome.com
DTSTAMP:20260421T190355Z
DTSTART:20260424T220000Z
DTEND:20260425T000000Z
SUMMARY:Visitation
DESCRIPTION:
URL:https://www.agentfuneralhome.com/obituaries/betty-sanders
LOCATION: 123 S Wheeler Ave  Sallisaw OK 74955
GEO:35.4584198;-94.7878701
END:VEVENT
END:VCALENDAR