BEGIN:VCALENDAR
VERSION:2.0
PRODID:-//Tukios.com/
BEGIN:VEVENT
UID:c6387758-c399-4aa9-8126-56ff00ffc13c@www.agentfuneralhome.com
DTSTAMP:20260421T190642Z
DTSTART:20260425T150000Z
DTEND:20260425T160000Z
SUMMARY:Funeral Service
DESCRIPTION:
URL:https://www.agentfuneralhome.com/obituaries/betty-sanders
LOCATION: 123 S Wheeler Ave  Sallisaw OK 74955
GEO:35.4579834;-94.7875666
END:VEVENT
END:VCALENDAR