BEGIN:VCALENDAR
VERSION:2.0
PRODID:-//Tukios.com/
BEGIN:VEVENT
UID:0b258e89-3c96-42a8-8b97-da551f201212@www.agentfuneralhome.com
DTSTAMP:20260421T190417Z
DTSTART:20260424T170000Z
DTEND:20260425T010000Z
SUMMARY:Viewing
DESCRIPTION:
URL:https://www.agentfuneralhome.com/obituaries/betty-sanders
LOCATION: 123 S Wheeler Ave  Sallisaw OK 74955
GEO:35.4584198;-94.7878701
END:VEVENT
END:VCALENDAR